BEGIN:VCALENDAR
VERSION:2.0
PRODID:-//White Rock Baptist Church - ECPv6.15.20//NONSGML v1.0//EN
CALSCALE:GREGORIAN
METHOD:PUBLISH
X-ORIGINAL-URL:https://whiterockbaptistchurch.org
X-WR-CALDESC:Events for White Rock Baptist Church
REFRESH-INTERVAL;VALUE=DURATION:PT1H
X-Robots-Tag:noindex
X-PUBLISHED-TTL:PT1H
BEGIN:VTIMEZONE
TZID:America/New_York
BEGIN:DAYLIGHT
TZOFFSETFROM:-0500
TZOFFSETTO:-0400
TZNAME:EDT
DTSTART:20230312T070000
END:DAYLIGHT
BEGIN:STANDARD
TZOFFSETFROM:-0400
TZOFFSETTO:-0500
TZNAME:EST
DTSTART:20231105T060000
END:STANDARD
BEGIN:DAYLIGHT
TZOFFSETFROM:-0500
TZOFFSETTO:-0400
TZNAME:EDT
DTSTART:20240310T070000
END:DAYLIGHT
BEGIN:STANDARD
TZOFFSETFROM:-0400
TZOFFSETTO:-0500
TZNAME:EST
DTSTART:20241103T060000
END:STANDARD
BEGIN:DAYLIGHT
TZOFFSETFROM:-0500
TZOFFSETTO:-0400
TZNAME:EDT
DTSTART:20250309T070000
END:DAYLIGHT
BEGIN:STANDARD
TZOFFSETFROM:-0400
TZOFFSETTO:-0500
TZNAME:EST
DTSTART:20251102T060000
END:STANDARD
END:VTIMEZONE
BEGIN:VEVENT
DTSTART;TZID=America/New_York:20240210T110000
DTEND;TZID=America/New_York:20240210T133000
DTSTAMP:20260421T063427
CREATED:20240202T190624Z
LAST-MODIFIED:20240210T143516Z
UID:10001359-1707562800-1707571800@whiterockbaptistchurch.org
SUMMARY:GIRL SCOUTS TROOP MEETING - Ms. K. Mayfield
DESCRIPTION:
URL:https://whiterockbaptistchurch.org/event/girl-scouts-troop-meeting-ms-k-mayfield/
LOCATION:MOORE/KENNEDY CLASSROOM\, Teen room
END:VEVENT
END:VCALENDAR