BEGIN:VCALENDAR
VERSION:2.0
PRODID:-//White Rock Baptist Church - ECPv6.15.20//NONSGML v1.0//EN
CALSCALE:GREGORIAN
METHOD:PUBLISH
X-ORIGINAL-URL:https://whiterockbaptistchurch.org
X-WR-CALDESC:Events for White Rock Baptist Church
REFRESH-INTERVAL;VALUE=DURATION:PT1H
X-Robots-Tag:noindex
X-PUBLISHED-TTL:PT1H
BEGIN:VTIMEZONE
TZID:America/New_York
BEGIN:DAYLIGHT
TZOFFSETFROM:-0500
TZOFFSETTO:-0400
TZNAME:EDT
DTSTART:20250309T070000
END:DAYLIGHT
BEGIN:STANDARD
TZOFFSETFROM:-0400
TZOFFSETTO:-0500
TZNAME:EST
DTSTART:20251102T060000
END:STANDARD
BEGIN:DAYLIGHT
TZOFFSETFROM:-0500
TZOFFSETTO:-0400
TZNAME:EDT
DTSTART:20260308T070000
END:DAYLIGHT
BEGIN:STANDARD
TZOFFSETFROM:-0400
TZOFFSETTO:-0500
TZNAME:EST
DTSTART:20261101T060000
END:STANDARD
BEGIN:DAYLIGHT
TZOFFSETFROM:-0500
TZOFFSETTO:-0400
TZNAME:EDT
DTSTART:20270314T070000
END:DAYLIGHT
BEGIN:STANDARD
TZOFFSETFROM:-0400
TZOFFSETTO:-0500
TZNAME:EST
DTSTART:20271107T060000
END:STANDARD
END:VTIMEZONE
BEGIN:VEVENT
DTSTART;TZID=America/New_York:20260314T110000
DTEND;TZID=America/New_York:20260314T130000
DTSTAMP:20260421T183134
CREATED:20260219T142123Z
LAST-MODIFIED:20260219T163905Z
UID:10002639-1773486000-1773493200@whiterockbaptistchurch.org
SUMMARY:WHITE ROCK FOOD DISTRIBUTION
DESCRIPTION:Join with Google Meet: https://meet.google.com/gqi-pqvq-iyd\nLearn more about Meet at: https://support.google.com/a/users/answer/9282720
URL:https://whiterockbaptistchurch.org/event/wrbc-food-distribution-23/
LOCATION:KITCHEN\, FELLOWSHIP HALL – DRIVE THRU
END:VEVENT
BEGIN:VEVENT
DTSTART;TZID=America/New_York:20260321T080000
DTEND;TZID=America/New_York:20260321T120000
DTSTAMP:20260421T183134
CREATED:20260223T143902Z
LAST-MODIFIED:20260320T185304Z
UID:10002641-1774080000-1774094400@whiterockbaptistchurch.org
SUMMARY:WHITE ROCK LEADERSHIP SUMMIT - "Sending Workers into the Harvest"
DESCRIPTION:Online registration has closed.  Please contact the church office.
URL:https://whiterockbaptistchurch.org/event/white-rock-leadership-summit/
LOCATION:3400 Fayetteville Street\, Durham\, NC 27707
END:VEVENT
BEGIN:VEVENT
DTSTART;TZID=America/New_York:20260322T130000
DTEND;TZID=America/New_York:20260322T150000
DTSTAMP:20260421T183134
CREATED:20260223T144625Z
LAST-MODIFIED:20260223T144625Z
UID:10002642-1774184400-1774191600@whiterockbaptistchurch.org
SUMMARY:"I Am Woman" Luncheon
DESCRIPTION:Join with Google Meet: https://meet.google.com/gqi-pqvq-iyd\nLearn more about Meet at: https://support.google.com/a/users/answer/9282720
URL:https://whiterockbaptistchurch.org/event/white-rock-i-am-woman-luncheon/
LOCATION:Maggiano’s Little Italy – Southoint Mall\, 6910 Fayetteville Rd\, Durham\, NC\, 27713\, United States
END:VEVENT
BEGIN:VEVENT
DTSTART;TZID=America/New_York:20260329T093000
DTEND;TZID=America/New_York:20260329T110000
DTSTAMP:20260421T183134
CREATED:20260328T152738Z
LAST-MODIFIED:20260328T153219Z
UID:10003019-1774776600-1774782000@whiterockbaptistchurch.org
SUMMARY:Holy Week 2026: Palm Sunday Service
DESCRIPTION:
URL:https://whiterockbaptistchurch.org/event/wrbc-palm-sunday-service/
LOCATION:3400 Fayetteville Street\, Durham\, NC 27707
END:VEVENT
BEGIN:VEVENT
DTSTART;TZID=America/New_York:20260329T110000
DTEND;TZID=America/New_York:20260405T130000
DTSTAMP:20260421T183134
CREATED:20260304T184642Z
LAST-MODIFIED:20260316T160452Z
UID:10003018-1774782000-1775394000@whiterockbaptistchurch.org
SUMMARY:I Am Every Woman: Margaret Faucette and the Women Who Came After Her Exhibit
DESCRIPTION:
URL:https://whiterockbaptistchurch.org/event/i-am-woman-exhibit/
LOCATION:FELLOWSHIP HALL\, 1614 Fayetteville St\, Durham\, NC\, United States
GEO:35.977922;-78.90043
X-APPLE-STRUCTURED-LOCATION;VALUE=URI;X-ADDRESS=FELLOWSHIP HALL 1614 Fayetteville St Durham NC United States;X-APPLE-RADIUS=500;X-TITLE=1614 Fayetteville St:geo:-78.90043,35.977922
END:VEVENT
END:VCALENDAR