BEGIN:VCALENDAR
VERSION:2.0
PRODID:-//White Rock Baptist Church - ECPv6.15.20//NONSGML v1.0//EN
CALSCALE:GREGORIAN
METHOD:PUBLISH
X-WR-CALNAME:White Rock Baptist Church
X-ORIGINAL-URL:https://whiterockbaptistchurch.org
X-WR-CALDESC:Events for White Rock Baptist Church
REFRESH-INTERVAL;VALUE=DURATION:PT1H
X-Robots-Tag:noindex
X-PUBLISHED-TTL:PT1H
BEGIN:VTIMEZONE
TZID:America/New_York
BEGIN:DAYLIGHT
TZOFFSETFROM:-0500
TZOFFSETTO:-0400
TZNAME:EDT
DTSTART:20230312T070000
END:DAYLIGHT
BEGIN:STANDARD
TZOFFSETFROM:-0400
TZOFFSETTO:-0500
TZNAME:EST
DTSTART:20231105T060000
END:STANDARD
BEGIN:DAYLIGHT
TZOFFSETFROM:-0500
TZOFFSETTO:-0400
TZNAME:EDT
DTSTART:20240310T070000
END:DAYLIGHT
BEGIN:STANDARD
TZOFFSETFROM:-0400
TZOFFSETTO:-0500
TZNAME:EST
DTSTART:20241103T060000
END:STANDARD
BEGIN:DAYLIGHT
TZOFFSETFROM:-0500
TZOFFSETTO:-0400
TZNAME:EDT
DTSTART:20250309T070000
END:DAYLIGHT
BEGIN:STANDARD
TZOFFSETFROM:-0400
TZOFFSETTO:-0500
TZNAME:EST
DTSTART:20251102T060000
END:STANDARD
END:VTIMEZONE
BEGIN:VEVENT
DTSTART;TZID=America/New_York:20240714T083000
DTEND;TZID=America/New_York:20240714T091500
DTSTAMP:20260421T060821
CREATED:20240202T190725Z
LAST-MODIFIED:20240713T192114Z
UID:10001601-1720945800-1720948500@whiterockbaptistchurch.org
SUMMARY:ADULT SUNDAY CLASSES (COMBINATION IN-PERSON AND ZOOM)
DESCRIPTION:
URL:https://whiterockbaptistchurch.org/event/adult-sunday-classes-combination-in-person-and-zoom-24/
LOCATION:MOORE/KENNEDY and SUSIE V. NORFLEET CLASSROOMS
END:VEVENT
BEGIN:VEVENT
DTSTART;TZID=America/New_York:20240714T091500
DTEND;TZID=America/New_York:20240714T110000
DTSTAMP:20260421T060821
CREATED:20240202T190725Z
LAST-MODIFIED:20240713T192114Z
UID:10001600-1720948500-1720954800@whiterockbaptistchurch.org
SUMMARY:MORNING WORSHIP OF CHRIST
DESCRIPTION:
URL:https://whiterockbaptistchurch.org/event/morning-worship-of-christ-24/
LOCATION:SANCTUARY
END:VEVENT
BEGIN:VEVENT
DTSTART;TZID=America/New_York:20240714T093000
DTEND;TZID=America/New_York:20240714T120000
DTSTAMP:20260421T060821
CREATED:20240202T190725Z
LAST-MODIFIED:20240713T192115Z
UID:10001602-1720949400-1720958400@whiterockbaptistchurch.org
SUMMARY:SUNDAY SCHOOL "SUNDAY MORNING LIVE" - CHILDREN AGES 5-12
DESCRIPTION:
URL:https://whiterockbaptistchurch.org/event/sunday-school-sunday-morning-live-children-ages-5-12-24/
LOCATION:FELLOWSHIP HALL (NOTE – LIVE ENDS AT END OF MORNING WORSHIP)
END:VEVENT
BEGIN:VEVENT
DTSTART;TZID=America/New_York:20240714T130000
DTEND;TZID=America/New_York:20240714T143000
DTSTAMP:20260421T060821
CREATED:20240202T190726Z
LAST-MODIFIED:20240713T192115Z
UID:10001603-1720962000-1720967400@whiterockbaptistchurch.org
SUMMARY:MORNING WORSHIP - (RECORDED!)
DESCRIPTION:
URL:https://whiterockbaptistchurch.org/event/morning-worship-recorded-24/
LOCATION:YOU TUBE – SEE WEB PAGE (www.whiterockbaptistchurch.org OR SUNDAY WORSHIP E-MAIL) for Link to watch
END:VEVENT
END:VCALENDAR