BEGIN:VCALENDAR
VERSION:2.0
PRODID:-//White Rock Baptist Church - ECPv6.15.20//NONSGML v1.0//EN
CALSCALE:GREGORIAN
METHOD:PUBLISH
X-WR-CALNAME:White Rock Baptist Church
X-ORIGINAL-URL:https://whiterockbaptistchurch.org
X-WR-CALDESC:Events for White Rock Baptist Church
REFRESH-INTERVAL;VALUE=DURATION:PT1H
X-Robots-Tag:noindex
X-PUBLISHED-TTL:PT1H
BEGIN:VTIMEZONE
TZID:America/New_York
BEGIN:DAYLIGHT
TZOFFSETFROM:-0500
TZOFFSETTO:-0400
TZNAME:EDT
DTSTART:20230312T070000
END:DAYLIGHT
BEGIN:STANDARD
TZOFFSETFROM:-0400
TZOFFSETTO:-0500
TZNAME:EST
DTSTART:20231105T060000
END:STANDARD
BEGIN:DAYLIGHT
TZOFFSETFROM:-0500
TZOFFSETTO:-0400
TZNAME:EDT
DTSTART:20240310T070000
END:DAYLIGHT
BEGIN:STANDARD
TZOFFSETFROM:-0400
TZOFFSETTO:-0500
TZNAME:EST
DTSTART:20241103T060000
END:STANDARD
BEGIN:DAYLIGHT
TZOFFSETFROM:-0500
TZOFFSETTO:-0400
TZNAME:EDT
DTSTART:20250309T070000
END:DAYLIGHT
BEGIN:STANDARD
TZOFFSETFROM:-0400
TZOFFSETTO:-0500
TZNAME:EST
DTSTART:20251102T060000
END:STANDARD
END:VTIMEZONE
BEGIN:VEVENT
DTSTART;TZID=America/New_York:20240626T120000
DTEND;TZID=America/New_York:20240626T130000
DTSTAMP:20260422T061842
CREATED:20240202T190719Z
LAST-MODIFIED:20240625T172005Z
UID:10001578-1719403200-1719406800@whiterockbaptistchurch.org
SUMMARY:NOON DAY PRAYER MINISTRY -- CONFERENCE CALL - DR. IRENE PERRY
DESCRIPTION:
URL:https://whiterockbaptistchurch.org/event/noon-day-prayer-ministry-conference-call-dr-irene-perry-21/
LOCATION:NON WRBC members may join the Prayer Line by calling the church office to share your name and email address for current and future participation)
END:VEVENT
BEGIN:VEVENT
DTSTART;TZID=America/New_York:20240626T140000
DTEND;TZID=America/New_York:20240626T151500
DTSTAMP:20260422T061842
CREATED:20240202T190719Z
LAST-MODIFIED:20240626T171955Z
UID:10001579-1719410400-1719414900@whiterockbaptistchurch.org
SUMMARY:TAI CHI EXERCISE CLASS - MS. MEREDYTHE HOLMES
DESCRIPTION:ZOOM: \nhttps://us06web.zoom.us/j/71447739716?pwd=DKkOZkOQqwgrcHpkODvjbdUCOvaxee.1
URL:https://whiterockbaptistchurch.org/event/tai-chi-exercise-class-ms-merydthe-holmes-21/
LOCATION:Fellowship Hall & Zoom
END:VEVENT
BEGIN:VEVENT
DTSTART;TZID=America/New_York:20240626T180000
DTEND;TZID=America/New_York:20240626T190000
DTSTAMP:20260422T061842
CREATED:20240202T190719Z
LAST-MODIFIED:20240626T171955Z
UID:10001580-1719424800-1719428400@whiterockbaptistchurch.org
SUMMARY:MINISTRY OF PRAYER GATHERING -- Prayer Ministry; D & D\, Deaconess Trannie Meekins
DESCRIPTION:Join Zoom Meeting\nhttps://us02web.zoom.us/j/86206150197?pwd=eVllcEN1SlM4bDUzVlBZS254YjlBZz09\nMeeting ID: 862 0615 0197\nPasscode: prayer\nBy Phone:\n+1 929 205 6099 US (New York)\nMeeting ID: 862 0615 0197\nPasscode: 478537
URL:https://whiterockbaptistchurch.org/event/ministry-of-prayer-gathering-prayer-ministry-d-d-deaconess-trannie-meekins-22/
LOCATION:VIRTUAL  –  ZOOM
END:VEVENT
BEGIN:VEVENT
DTSTART;TZID=America/New_York:20240626T191000
DTEND;TZID=America/New_York:20240626T201000
DTSTAMP:20260422T061842
CREATED:20240626T171954Z
LAST-MODIFIED:20240626T171955Z
UID:10001944-1719429000-1719432600@whiterockbaptistchurch.org
SUMMARY:Bible Study on Nehemiah
DESCRIPTION:
URL:https://whiterockbaptistchurch.org/event/bible-study-on-nehemiah/
END:VEVENT
END:VCALENDAR