BEGIN:VCALENDAR
VERSION:2.0
PRODID:-//White Rock Baptist Church - ECPv6.15.20//NONSGML v1.0//EN
CALSCALE:GREGORIAN
METHOD:PUBLISH
X-WR-CALNAME:White Rock Baptist Church
X-ORIGINAL-URL:https://whiterockbaptistchurch.org
X-WR-CALDESC:Events for White Rock Baptist Church
REFRESH-INTERVAL;VALUE=DURATION:PT1H
X-Robots-Tag:noindex
X-PUBLISHED-TTL:PT1H
BEGIN:VTIMEZONE
TZID:America/New_York
BEGIN:DAYLIGHT
TZOFFSETFROM:-0500
TZOFFSETTO:-0400
TZNAME:EDT
DTSTART:20230312T070000
END:DAYLIGHT
BEGIN:STANDARD
TZOFFSETFROM:-0400
TZOFFSETTO:-0500
TZNAME:EST
DTSTART:20231105T060000
END:STANDARD
BEGIN:DAYLIGHT
TZOFFSETFROM:-0500
TZOFFSETTO:-0400
TZNAME:EDT
DTSTART:20240310T070000
END:DAYLIGHT
BEGIN:STANDARD
TZOFFSETFROM:-0400
TZOFFSETTO:-0500
TZNAME:EST
DTSTART:20241103T060000
END:STANDARD
BEGIN:DAYLIGHT
TZOFFSETFROM:-0500
TZOFFSETTO:-0400
TZNAME:EDT
DTSTART:20250309T070000
END:DAYLIGHT
BEGIN:STANDARD
TZOFFSETFROM:-0400
TZOFFSETTO:-0500
TZNAME:EST
DTSTART:20251102T060000
END:STANDARD
END:VTIMEZONE
BEGIN:VEVENT
DTSTART;TZID=America/New_York:20240413T083000
DTEND;TZID=America/New_York:20240413T140000
DTSTAMP:20260423T094758
CREATED:20240202T190654Z
LAST-MODIFIED:20240412T180458Z
UID:10001470-1712997000-1713016800@whiterockbaptistchurch.org
SUMMARY:COMMUNITY FOOD DISTRIBUTION
DESCRIPTION:Join with Google Meet: https://meet.google.com/gqi-pqvq-iyd\nLearn more about Meet at: https://support.google.com/a/users/answer/9282720
URL:https://whiterockbaptistchurch.org/event/community-food-distribution-3/
LOCATION:KITCHEN\, FELLOWSHIP HALL – DRIVE THRU
END:VEVENT
BEGIN:VEVENT
DTSTART;TZID=America/New_York:20240413T100000
DTEND;TZID=America/New_York:20240413T120000
DTSTAMP:20260423T094758
CREATED:20240202T190654Z
LAST-MODIFIED:20240412T180458Z
UID:10001471-1713002400-1713009600@whiterockbaptistchurch.org
SUMMARY:GREETERS MINISTRY - Dr. Mary Foster
DESCRIPTION:
URL:https://whiterockbaptistchurch.org/event/greeters-ministry-dr-mary-foster-3/
LOCATION:VIRTUAL – ZOOM – contact Dr. Foster for link
END:VEVENT
BEGIN:VEVENT
DTSTART;TZID=America/New_York:20240413T100000
DTEND;TZID=America/New_York:20240413T120000
DTSTAMP:20260423T094758
CREATED:20240305T145100Z
LAST-MODIFIED:20240318T163537Z
UID:10001718-1713002400-1713009600@whiterockbaptistchurch.org
SUMMARY:Mentoring Single Mothers-Ms Pickette-Williams
DESCRIPTION:
URL:https://whiterockbaptistchurch.org/event/mentoring-single-mothers-ms-pickette-williams-9/
LOCATION:Susie V. Norfleet\, White Rock Baptist Church
END:VEVENT
BEGIN:VEVENT
DTSTART;TZID=America/New_York:20240413T100000
DTEND;TZID=America/New_York:20240413T120000
DTSTAMP:20260423T094758
CREATED:20240308T150509Z
LAST-MODIFIED:20240412T180458Z
UID:10001725-1713002400-1713009600@whiterockbaptistchurch.org
SUMMARY:Titus Women
DESCRIPTION:
URL:https://whiterockbaptistchurch.org/event/titus-women-2/
LOCATION:Philathea Room  — White Rock Baptist Church
END:VEVENT
BEGIN:VEVENT
DTSTART;TZID=America/New_York:20240413T110000
DTEND;TZID=America/New_York:20240413T133000
DTSTAMP:20260423T094758
CREATED:20240202T190654Z
LAST-MODIFIED:20240412T180458Z
UID:10001469-1713006000-1713015000@whiterockbaptistchurch.org
SUMMARY:GIRL SCOUTS TROOP MEETING - Ms. K. Mayfield
DESCRIPTION:
URL:https://whiterockbaptistchurch.org/event/girl-scouts-troop-meeting-ms-k-mayfield-4/
LOCATION:MOORE/KENNEDY CLASSROOM/Teen room
END:VEVENT
END:VCALENDAR