BEGIN:VCALENDAR
VERSION:2.0
PRODID:-//White Rock Baptist Church - ECPv6.15.20//NONSGML v1.0//EN
CALSCALE:GREGORIAN
METHOD:PUBLISH
X-ORIGINAL-URL:https://whiterockbaptistchurch.org
X-WR-CALDESC:Events for White Rock Baptist Church
REFRESH-INTERVAL;VALUE=DURATION:PT1H
X-Robots-Tag:noindex
X-PUBLISHED-TTL:PT1H
BEGIN:VTIMEZONE
TZID:America/New_York
BEGIN:DAYLIGHT
TZOFFSETFROM:-0500
TZOFFSETTO:-0400
TZNAME:EDT
DTSTART:20230312T070000
END:DAYLIGHT
BEGIN:STANDARD
TZOFFSETFROM:-0400
TZOFFSETTO:-0500
TZNAME:EST
DTSTART:20231105T060000
END:STANDARD
BEGIN:DAYLIGHT
TZOFFSETFROM:-0500
TZOFFSETTO:-0400
TZNAME:EDT
DTSTART:20240310T070000
END:DAYLIGHT
BEGIN:STANDARD
TZOFFSETFROM:-0400
TZOFFSETTO:-0500
TZNAME:EST
DTSTART:20241103T060000
END:STANDARD
BEGIN:DAYLIGHT
TZOFFSETFROM:-0500
TZOFFSETTO:-0400
TZNAME:EDT
DTSTART:20250309T070000
END:DAYLIGHT
BEGIN:STANDARD
TZOFFSETFROM:-0400
TZOFFSETTO:-0500
TZNAME:EST
DTSTART:20251102T060000
END:STANDARD
END:VTIMEZONE
BEGIN:VEVENT
DTSTART;TZID=America/New_York:20240312T103000
DTEND;TZID=America/New_York:20240312T120000
DTSTAMP:20260421T093324
CREATED:20240202T190637Z
LAST-MODIFIED:20240312T155129Z
UID:10001419-1710239400-1710244800@whiterockbaptistchurch.org
SUMMARY:Missionary Executive Officers-Dr. Mary Foster
DESCRIPTION:  SWW Missionary Training and Meetings
URL:https://whiterockbaptistchurch.org/event/missionary-executive-officers-dr-mary-foster-2/
LOCATION:MOORE-KENNEDY CLASSROOM
END:VEVENT
BEGIN:VEVENT
DTSTART;TZID=America/New_York:20240312T180000
DTEND;TZID=America/New_York:20240312T190000
DTSTAMP:20260421T093324
CREATED:20240202T190637Z
LAST-MODIFIED:20240312T155130Z
UID:10001420-1710266400-1710270000@whiterockbaptistchurch.org
SUMMARY:STEPHEN MINISTRY  (CONFERENCE CALL) --  Ms. Shirley Davis Kidd
DESCRIPTION:
URL:https://whiterockbaptistchurch.org/event/stephen-ministry-conference-call-ms-shirley-davis-kidd-2/
END:VEVENT
END:VCALENDAR